Workbook

Sheet 封面
A1: 北京市众创空间 申报文本 申报单位： （盖章） 填报时间： 北京众创空间联盟

Sheet 填报说明
A1: 填报说明 1.申报材料一律使用A4纸张，同相关附件合并胶装成册，书脊标注申报单位名称，根据要求签字加盖申报单位公章，并在申报材料加盖骑缝章。不同类型的附件材料之间用空白页隔开，并在空白页上注明附件类型。 2.申报材料一式5份，请各申报单位自行备份，申报材料概不退回。 3.申报文本及附件材料电子版请刻录光盘并递交。 4.申报材料必须真实有效，如发现有虚假伪造行为，联盟将取消该机构当年申报资格。

Sheet 一、众创空间基本信息
A1: 一、众创空间基本信息
A3: 申报单位 工商注册名称
A4: 组织机构代码 或统一社会信用代码 | F4: 成立时间
A5: 注册地址
A6: 注册资本（万元） | F6: 实缴资本（万元）
A7: 机构性质 | B7: 内资企业 | C7: □国有 | E7: □集体 | G7: □股份合作
C8: □国有联营 | E8: □集体联营 | G8: □国有与集体联营
C9: □其他联营 | E9: □国有独资公司 | G9: □其他有限责任公司
C10: □股份有限公司 | E10: □私营独资 | G10: □私营合伙
C11: □私营有限责任公司 | E11: □私营股份有限公司 | G11: □其他
B12: 港澳台商投资企业 | C12: □与港澳台商合资经营 | E12: □与港澳台商合作经营 | G12: □港澳台商独资
C13: □港澳台商投资股份有限公司 | E13: □其他港澳台投资
B14: 外商投资 | C14: □中外合资经营 | E14: □中外合作经营 | G14: □外资企业
C15: □外商投资股份有限公司 | E15: □其他外商投资
B16: 其他性质 | C16: □事业单位 □社会团体 □政府部门 □民办非企 □其他
A17: 法人代表 | E17: 办公电话/手机
A18: 总经理 | E18: 办公电话/手机
A19: 联系人 | E19: 办公电话/手机
A20: 联系人 电子邮箱 | E20: 网址
A21: 办公地址
A22: 众创空间是否是上市、挂牌的企业 （含四板、三板、主板、NASDAQ等上市）
A23: 众创空间获得融资情况 | D23: 第一轮 | F23: 第二轮 | H23: …
B24: 众创空间获得的融资轮次
B25: 众创空间获得融资金额（人民币万元）
B26: 众创空间资本市场估值（人民币万元）
A27: 获得资质（需提供附件） | B27: （请注明资质名称，及授予资质的单位名称）

Sheet 二、众创空间场地及管理团队
A1: 二、众创空间场地及管理团队
A3: 场地面积（平米）
A4: 其中: | B4: 创业企业和团队办公面积 | F4: 公共服务面积
A5: 平均租金/平米/天 | E5: 独立空间租金/平米/天
A6: 场地可自主支配的情况 （单选）
A7: 第一办公地址及面积
A8: 第二办公地址及面积
A9: 第三办公地址及面积
A10: 如有其他办公空间，请逐一增加
A11: 是否具有集中办公注册资质
A12: 如具有集中办公注册资质， 集中办公办公区场地面积和办公工位数量
A13: 空间成立时的创始人数量 | E13: 空间目前股东或合伙人数量
A14: 股东构成 （请按占股份比例从高至低填写） | D14: 股东名称 | I14: 股权比例
B15: 第一股东
B16: 第二股东
B17: 第三股东
B18: 第四股东
B19: 第五股东
A20: 员工总数 | E20: 管理团队个人履历情况
A21: 其中： | B21: 博士人数 | E21: 其中： | F21: 曾在上市公司任职人数
B22: 硕士人数 | F22: 曾在跨国公司任职人数
B23: 本科人数 | F23: 曾在投资机构任职人数
B24: 大专人数 | F24: 曾创业人数
A25: 创始人及主要管理人员简介
A26: 注：1.创业企业和团队办公面积：指申报机构向创业企业（成立时间不超过5年）和创业团队提供办公的场地面积总和，不包括已毕业及大型入驻企业（非在孵企业）的面积，如没有为创业企业提供办公服务，则填“无”。 2.公共服务面积：指申报单位向企业提供服务，如：路演、培训、会议、技术平台等的面积 3.场地平均租金：机构目前每天每平米场地租金，不含物业费。 4.集中办公区：指申报机构提供的工位式办公区域，并且经过相关部门审批，可以进行企业工商登记注册。

Sheet 三、众创空间运营及模式
A1: 三、众创空间运营及模式
A3: 众创空间截至目前经营情况
A4: 2016年收入规模（万元）：
A5: 其中： | B5: 科目 | D5: 金额（万元） | G5: 比例（%）
B6: 餐饮收入
B7: 投资项目股权收益
B8: 基金管理费
B9: 房租（工位）
B10: 技术服务
B11: 咨询服务
B12: 培训服务
B13: 财税支持
B14: 其他收入
A15: 2016年运营成本（万元）：
A16: 其中： | B16: 科目 | D16: 金额（万元） | G16: 比例（%）
B17: 人工成本
B18: 房租成本
B19: 服务活动
B20: 装修改造
B21: 设备购置
B22: 其他成本
A23: 2016年利润（万元）：
A24: 2016年纳税总额（万元）：
A25: 包含税种 | D25: □企业所得税 | G25: □企业增值税
D26: □印花税 | G26: □其他
A27: 众创空间成立以来获得财税支持情况： | C27: 科目 | F27: 金额（万元） | H27: 比例（%）
C28: 国家财政支持
C29: 市级财政支持
C30: 区级财政支持
C31: 享受税收减免
A32: 众创空间运营模式 | C32: （申报单位整体概况，商业模式及特点，不超过500字）

Sheet 四、服务内容及服务效果
A1: 四、服务内容及服务效果
A3: 1.众创空间直接为入驻创业企业/团队提供的服务内容（可多选，各选择项需提供5家以上企业/团队案例，案例模板见附件1）
A4: 服务内容 | B4: 细分服务 | E4: 是否提供 | F4: 细分服务 | I4: 是否提供
A5: 技术服务 | B5: （1）技术研发众包平台 | F5: （2）科研设备硬件投入
B6: （3）大数据 | F6: （4）技术研发团队
B7: （5）工程技术实验室 | F7: （6）其他
A8: 培训辅导 | B8: （1）自有品牌课程 | F8: （2）训练营等品牌化活动
B9: （3）导师团队（包含私董会） | F9: （4）其他
A10: 投资服务 | B10: （1）融资顾问 | F10: （2）创投基金
B11: （3）股权众筹 | F11: （4）其他
A12: 联合办公 | B12: （1）共享空间 | F12: （2）第三方商事服务 （包括注册、财务、法务等）
B13: （3）其他
A14: 市场运营 | B14: （1）媒体资源 | F14: （2）市场推广
B15: （3）供应链管理 | F15: （4）其他
A16: 2.众创空间入驻企业（团队）投融资服务情况：（2016年1月1日至2016年12月31日的有效数据）
A17: 指标 | D17: 数据
A18: 获得投资入驻企业（团队）数量（家）
A19: 入驻企业（团队）获得投资总额（万元）
A20: 社会投资占投资总额比重（%）
A21: 众创空间自身投资占投资总额比重（%）
D22: 数量（家） | G22: 融资额（万元）
A23: 其中： | B23: 种子资金
B24: 天使投资
B25: A轮融资
B26: B轮融资
B27: C轮融资
A28: 3.社会效益
A29: 指标 | G29: 数量
A30: 2016年入驻众创空间创业团队数量（需与后附附件名单对应）
A31: 2016年入驻众创空间创业企业数量（需与后附附件名单对应）
A32: 2016年在众创空间内新注册企业数量
A33: 累计吸引海外项目入驻
A34: 累计毕业企业
A35: 累计上市企业
A36: 累计被收购和兼并企业
A37: 累计入驻创业企业及团队吸纳社会就业人数
A38: 累计入驻大学生创业的企业（团队）个数
A39: 累计留学归国人员创业的企业（团队）个数
A40: 累计科技人员创业的企业（团队）个数
A41: 累计入驻大企业高管离职创业的企业（团队）个数
...

Sheet 附件1服务企业案例模板
A1: 附件1： 服务企业案例模板
A3: 1.技术服务案例（需提供服务合同、付费证明等材料）
A4: 序号 | B4: 所服务创新创业企业/团队名称 | E4: 服务时间 | G4: 服务内容 | K4: 服务效果
A5: 1
A6: 2
A7: 3
A8: 4
A9: 5
A10: 2.培训辅导案例（需提供导师名单、聘书等材料）
A11: 序号 | B11: 课程/活动名称 | E11: 主讲人 | F11: 时间 | G11: 地点 | I11: 参加活动人员范围及人数 | K11: 主要内容
A12: 1
A13: 2
A14: 3
A15: 4
A16: 5
A17: 3.投资服务案例（需提供投资协议、入资证明等材料）
A18: 序号 | B18: 服务创新创业企业/团队名称 | E18: 融资时间 | G18: 服务内容（为创业团队/企业获得融资轮次等内容） | J18: 主要参加投融资机构名称 | M18: 融资类型 | N18: 融资金额
A19: 1
A20: 2
A21: 3
A22: 4
A23: 5
A24: 4.联合办公案例（需提供工商注册、法务服务等各类服务资源的合作协议、付费证明等材料）
A25: 序号 | B25: 服务创新创业企业/团队名称 | E25: 服务时间 | G25: 服务内容 | K25: 服务效果
A26: 1
A27: 2
A28: 3
A29: 4
A30: 5
A31: 5.市场运营服务（需提供服务合同、付费证明等材料）
A32: 序号 | B32: 所服务创新创业企业/团队名称 | E32: 服务时间 | G32: 服务内容 | K32: 服务效果
A33: 1
A34: 2
A35: 3
A36: 4
A37: 5

Sheet 附件2众创空间入驻企业名单
A1: 附件2： 众创空间入驻企业名单（2016年度）
A3: 序号 | B3: 企业名称 | E3: 统一社会信用代码 | G3: 行业领域 | I3: 是否提供入驻协议

Sheet 附件3众创空间入驻团队名单 
A1: 附件2： 众创空间入驻团队名单（2016年度）
A3: 序号 | B3: 团队名称 | G3: 行业领域 | I3: 是否提供入驻协议

Sheet 申报单位承诺
A1: 申报单位承诺 本单位承诺申报材料中所有信息真实可靠，若有失实和造假行为，本单位愿承担一切责任。 法定代表人（签字）： 申报单位（公章） 年 月 日

Sheet 申报附件清单
A1: 申报书附件清单 一、申报单位营业执照扫描或复印件，加盖申报单位公章（公章不可复印）。 二、申报单位场地产权证明复印件，自有场地提供产权证书复印件，属委托经营或整体租赁的提供委托协议书或租赁证明复印件；申报单位孵化场地平面图复印件。 三、申报单位入驻企业/团队名单，后附入驻协议复印件。入驻企业提供营业执照复印件，加盖入驻企业公章（公章不可复印）。 四、各类服务内容需相应提供相关证明：技术服务、市场运营两类请提供服务合同、付费证明等；投资服务请提供投资协议、入资证明等；培训辅导请提供导师名单、聘书等；联合办公请提供工商注册、法务服务等各类服务资源的合作协议、付费证明等。 五、申报单位获得的相关资质证明文件复印件、及其他证明材料。

Sheet 数据条链接
AT1: 服务内容 | BJ1: 众创空间获得融资情况
AT2: 技术服务 | AY2: 培训辅导 | BB2: 投资服务 | BE2: 联合办公 | BG2: 市场运营 | BJ2: 第一轮 | BM2: 第二轮 | BP2: 第三轮
A3: 申报单位工商注册名称 | B3: 组织机构代码 或统一社会信用代码 | C3: 众创空间是否是上市、挂牌的企业 （含四板、三板、主板、NASDAQ等上市） | D3: 场地面积（平米） | E3: 2016年收入规模（万元） | F3: 餐饮收入 | G3: 投资项目股权收益 | H3: 基金管理费 | I3: 房租（工位） | J3: 技术服务 | K3: 咨询服务 | L3: 培训服务 | M3: 财税支持 | N3: 其他收入 | O3: 2016年运营成本（万元） | P3: 人工成本 | Q3: 房租成本 | R3: 服务活动 | S3: 装修改造 | T3: 设备购置 | U3: 其他成本 | V3: 2016年纳税总额（万元 | W3: 获得投资入驻企业（团队）数量（家） | X3: 入驻企业（团队）获得投资总额（万元） | Y3: 社会投资占投资总额比重% | Z3: 众创空间自身投资占投资总额比重% | AA3: 2016年入驻众创空间创业团队数量 | AB3: 2016年入驻众创空间创业企业数量 | AC3: 2016年在众创空间内新注册企业数量 | AD3: 累计吸引海外项目入驻 | AE3: 累计毕业企业 | AF3: 累计上市企业 | AG3: 累计被收购和兼并企业 | AH3: 累计入驻创业企业及团队吸纳社会就业人数 | AI3: 累计入驻大学生创业的企业（团队）个数 | AJ3: 累计留学归国人员创业的企业（团队）个数 | AK3: 累计科技人员创业的企业（团队）个数 | AL3: 累计入驻大企业高管离职创业的企业（团队）个数 | AM3: 累计入驻连续创业的企业（团队）个数 | AN3: 累计入驻创业企业及团队拥有发明专利申请数 | AO3: 累计入驻创业企业及团队拥有发明专利所有权数 | AP3: 累计入驻创业企业及团队拥有发明专利使用权数 | AQ3: 累计入驻创业企业及团队拥有实用新型数 | AR3: 累计入驻创业企业及团队拥有外观专利数 | AS3: 累计入驻创业企业及团队拥有软件著作权数 | AT3: （1）技术研发众包平台 | AU3: （2）科研设备硬件投入 | AV3: （3）大数据 | AW3: （4）技术研发团队 | AX3: （5）工程技术实验室 | AY3: （1）自有品牌课程 | AZ3: （2）训练营等品牌化活动 | BA3: （3）导师团队（包含私董会） | BB3: （1）融资顾问 | BC3: （2）创投基金 | BD3: （3）股权众筹 | BE3: （1）共享空间 | BF3: （2）第三方商事服务 （包括注册、财务、法务等） | BG3: （1）媒体资源 | BH3: （2）市场推广 | BI3: （3）供应链管理 | BJ3: 众创空间获得的融资轮次 | BK3: 众创空间获得融资金额（人民币万元） | BL3: 众创空间资本市场估值（人民币万元） | BM3: 众创空间获得的融资轮次 | BN3: 众创空间获得融资金额（人民币万元） | BO3: 众创空间资本市场估值（人民币万元） | BP3: 众创空间获得的融资轮次 | BQ3: 众创空间获得融资金额（人民币万元） | BR3: 众创空间资本市场估值（人民币万元）
A4: =一、众创空间基本信息!C3 -> 0 | B4: =一、众创空间基本信息!C4 -> 0 | C4: =一、众创空间基本信息!G22 -> 0 | D4: =二、众创空间场地及管理团队!C3 -> 0 | E4: =三、众创空间运营及模式!D4 -> 0 | F4: =三、众创空间运营及模式!D6 -> 0 | G4: =三、众创空间运营及模式!D7 -> 0 | H4: =三、众创空间运营及模式!D8 -> 0 | I4: =三、众创空间运营及模式!D9 -> 0 | J4: =三、众创空间运营及模式!D10 -> 0 | K4: =三、众创空间运营及模式!D11 -> 0 | L4: =三、众创空间运营及模式!D12 -> 0 | M4: =三、众创空间运营及模式!D13 -> 0 | N4: =三、众创空间运营及模式!D14 -> 0 | O4: =三、众创空间运营及模式!D15 -> 0 | P4: =三、众创空间运营及模式!D17 -> 0 | Q4: =三、众创空间运营及模式!D18 -> 0 | R4: =三、众创空间运营及模式!D19 -> 0 | S4: =三、众创空间运营及模式!D20 -> 0 | T4: =三、众创空间运营及模式!D21 -> 0 | U4: =三、众创空间运营及模式!D22 -> 0 | V4: =三、众创空间运营及模式!D24 -> 0 | W4: =四、服务内容及服务效果!D18 -> 0 | X4: =四、服务内容及服务效果!D19 -> 0 | Y4: =四、服务内容及服务效果!D20 -> 0 | Z4: =四、服务内容及服务效果!D21 -> 0 | AA4: =四、服务内容及服务效果!G30 -> 0 | AB4: =四、服务内容及服务效果!G31 -> 0 | AC4: =四、服务内容及服务效果!G32 -> 0 | AD4: =四、服务内容及服务效果!G33 -> 0 | AE4: =四、服务内容及服务效果!G34 -> 0 | AF4: =四、服务内容及服务效果!G35 -> 0 | AG4: =四、服务内容及服务效果!G36 -> 0 | AH4: =四、服务内容及服务效果!G37 -> 0 | AI4: =四、服务内容及服务效果!G38 -> 0 | AJ4: =四、服务内容及服务效果!G39 -> 0 | AK4: =四、服务内容及服务效果!G40 -> 0 | AL4: =四、服务内容及服务效果!G41 -> 0 | AM4: =四、服务内容及服务效果!G42 -> 0 | AN4: =四、服务内容及服务效果!G43 -> 0 | AO4: =四、服务内容及服务效果!G44 -> 0 | AP4: =四、服务内容及服务效果!G45 -> 0 | AQ4: =四、服务内容及服务效果!G46 -> 0 | AR4: =四、服务内容及服务效果!G47 -> 0 | AS4: =四、服务内容及服务效果!G48 -> 0 | AT4: =四、服务内容及服务效果!E5 -> 0 | AU4: =四、服务内容及服务效果!I5 -> 0 | AV4: =四、服务内容及服务效果!E6 -> 0 | AW4: =四、服务内容及服务效果!I6 -> 0 | AX4: =四、服务内容及服务效果!E7 -> 0 | AY4: =四、服务内容及服务效果!E8 -> 0 | AZ4: =四、服务内容及服务效果!I8 -> 0 | BA4: =四、服务内容及服务效果!E9 -> 0 | BB4: =四、服务内容及服务效果!E10 -> 0 | BC4: =四、服务内容及服务效果!I10 -> 0 | BD4: =四、服务内容及服务效果!E11 -> 0 | BE4: =四、服务内容及服务效果!E12 -> 0 | BF4: =四、服务内容及服务效果!I12 -> 0 | BG4: =四、服务内容及服务效果!E14 -> 0 | BH4: =四、服务内容及服务效果!I14 -> 0 | BI4: =四、服务内容及服务效果!E15 -> 0 | BJ4: =一、众创空间基本信息!D24 -> 0 | BK4: =一、众创空间基本信息!D25 -> 0 | BL4: =一、众创空间基本信息!D26 -> 0 | BM4: =一、众创空间基本信息!F24 -> 0 | BN4: =一、众创空间基本信息!F25 -> 0 | BO4: =一、众创空间基本信息!F26 -> 0 | BP4: =一、众创空间基本信息!H24 -> 0 | BQ4: =一、众创空间基本信息!H25 -> 0 | BR4: =一、众创空间基本信息!H26 -> 0
